BEGIN:VCALENDAR
VERSION:2.0
X-WR-TIMEZONE:America/Guadeloupe
CALSCALE:GREGORIAN
PRODID:-//IPEOS/Calendar//NONSGML v1.0//FR
X-WR-CALNAME;VALUE=TEXT:Sainte-Rose - Agenda
X-WR-CALDESC: Retrouvez ici tous les événements\, activités et rendez-vous incontournables qui animent notre commune. Que vous soyez résident ou visiteur\, ne manquez rien des moments forts de notre ville. 
X-WR-RELCALID:article/agenda
BEGIN:VEVENT
SUMMARY:Agenda
UID:evenement10 @ https://www.villesainterose.fr
DTSTAMP:20260423T140702Z
DTSTART:20260501T140000Z
DTEND:20260501T210000Z
CREATED:20260423T140702Z
LAST-MODIFIED:20260423T180702Z
LOCATION:📍 Boulevard Maritime – Sainte-Rose
DESCRIPTION:La Ville de Sainte-Rose vous donne rendez-vous pour la 23ᵉ édition de la Coupe du Maire\, le 1er mai 2026. Une course de voile traditionnelle réunissant près de 40 équipages\, pour un spectacle nautique unique au cœur du patrimoine maritime de la commune. Animations culturelles\, ambiance conviviale et passion de la mer seront au rendez-vous. 📍 Boulevard Maritime – Sainte-Rose ⛵ Coupe du Maire 2026
CATEGORIES:Agenda
URL:https://www.villesainterose.fr/article/agenda?id_evenement=10

STATUS:CONFIRMED
END:VEVENT
END:VCALENDAR

